BEGIN:VCALENDAR
VERSION:2.0
PRODID:-//urwahl3000//gruene-kalletal.de//DE
CALSCALE:GREGORIAN
BEGIN:VEVENT
DTSTART:20250714T183000
DTEND:20250714T183000
LOCATION:Am Markt 6 Kalletal
DTSTAMP:20250714T183000
SUMMARY:OV-Sitzung mit anschließender Fraktionssitzung
URL;VALUE=URI:https://gruene-kalletal.de/termin/ov-sitzung-mit-anschliessender-fraktionssitzung/
DESCRIPTION:Interessierte Bürger und Bürgerinnen sind willkommen!
UID:20250714T183000-20250714T183000-20250714T183000
END:VEVENT
END:VCALENDAR